Workbook
Name Fiesta: InputData!$G$6
Name Focus: InputData!$J$6
Name Ford: InputData!$L$5:$L$7
Name Fusion: InputData!$I$6
Name Honda: InputData!$M$5:$M$7
Name Prelude: InputData!$H$6
Name Slicer_Standing: #N/A

Sheet RentalData
A1: CustID | B1: Date | C1: CarID | D1: TimeOut | E1: Miles | F1: Price | G1: Insurance | H1: Gender | I1: Standing | J1: Note | K1: Checkup | L1: Model
I2: =I12 -> Sophomore | L2: =L36 -> Focus
I3: =I17 -> Junior | L3: =L17 -> Prelude
A5: Total Miles | B5: =SUBTOTAL(9,E17:E125) -> 3153
A6: Average Price | B6: =SUBTOTAL(1,F17:F125) -> 109.875
A7: Total Rentals | B7: =SUBTOTAL(3,C17:C125) -> 16
A11: CustID | B11: Date | C11: CarID | D11: TimeOut | E11: Miles | F11: Price | G11: Insurance | H11: Gender | I11: Standing | J11: Note | K11: Checkup | L11: Model
A12: C82486 | B12: 43144 | C12: H1 | D12: 220 | E12: 327 | F12: 91 | G12: 0 | H12: M | I12: Sophomore | J12: Dirty | K12: =IF(OR(J12="Damage",J12="Repair"),"Y","N") -> N | L12: =VLOOKUP(C12,InputData!$A$4:$C$33,3,FALSE) -> Fiesta
A13: C29297 | B13: 43146 | C13: H1 | D13: 80 | E13: 143 | F13: 56 | G13: 0 | H13: M | I13: Freshman | J13: OK | K13: =IF(OR(J13="Damage",J13="Repair"),"Y","N") -> N | L13: =VLOOKUP(C13,InputData!$A$4:$C$33,3,FALSE) -> Fiesta
A14: C91326 | B14: 43177 | C14: H1 | D14: 550 | E14: 271 | F14: 75 | G14: 1 | H14: M | I14: Junior | J14: Dirty | K14: =IF(OR(J14="Damage",J14="Repair"),"Y","N") -> N | L14: =VLOOKUP(C14,InputData!$A$4:$C$33,3,FALSE) -> Fiesta
A15: C82678 | B15: 43195 | C15: H1 | D15: 520 | E15: 171 | F15: 108 | G15: 0 | H15: M | I15: Freshman | J15: OK | K15: =IF(OR(J15="Damage",J15="Repair"),"Y","N") -> N | L15: =VLOOKUP(C15,InputData!$A$4:$C$33,3,FALSE) -> Fiesta
A16: C91565 | B16: 43226 | C16: H1 | D16: 240 | E16: 381 | F16: 97 | G16: 0 | H16: F | I16: Sophomore | J16: Dirty | K16: =IF(OR(J16="Damage",J16="Repair"),"Y","N") -> N | L16: =VLOOKUP(C16,InputData!$A$4:$C$33,3,FALSE) -> Fiesta
A17: C84744 | B17: 43136 | C17: H10 | D17: 180 | E17: 227 | F17: 105 | G17: 1 | H17: F | I17: Junior | J17: OK | K17: =IF(OR(J17="Damage",J17="Repair"),"Y","N") -> N | L17: =VLOOKUP(C17,InputData!$A$4:$C$33,3,FALSE) -> Prelude
A18: C69547 | B18: 43169 | C18: H11 | D18: 100 | E18: 286 | F18: 150 | G18: 0 | H18: M | I18: Sophomore | J18: Dirty | K18: =IF(OR(J18="Damage",J18="Repair"),"Y","N") -> N | L18: =VLOOKUP(C18,InputData!$A$4:$C$33,3,FALSE) -> Fusion
A19: C35362 | B19: 43175 | C19: H11 | D19: 400 | E19: 15 | F19: 59 | G19: 1 | H19: M | I19: Freshman | J19: Damage | K19: =IF(OR(J19="Damage",J19="Repair"),"Y","N") -> Y | L19: =VLOOKUP(C19,InputData!$A$4:$C$33,3,FALSE) -> Fusion
A20: C89766 | B20: 43231 | C20: H11 | D20: 520 | E20: 355 | F20: 49 | G20: 1 | H20: F | I20: Graduate | J20: Damage | K20: =IF(OR(J20="Damage",J20="Repair"),"Y","N") -> Y | L20: =VLOOKUP(C20,InputData!$A$4:$C$33,3,FALSE) -> Fusion
A21: C81205 | B21: 43138 | C21: H12 | D21: 80 | E21: 67 | F21: 77 | G21: 1 | H21: F | I21: Sophomore | J21: OK | K21: =IF(OR(J21="Damage",J21="Repair"),"Y","N") -> N | L21: =VLOOKUP(C21,InputData!$A$4:$C$33,3,FALSE) -> Prelude
A22: C77395 | B22: 43135 | C22: H13 | D22: 220 | E22: 300 | F22: 79 | G22: 1 | H22: M | I22: Graduate | J22: OK | K22: =IF(OR(J22="Damage",J22="Repair"),"Y","N") -> N | L22: =VLOOKUP(C22,InputData!$A$4:$C$33,3,FALSE) -> Prelude
A23: C82486 | B23: 43139 | C23: H13 | D23: 110 | E23: 259 | F23: 85 | G23: 0 | H23: M | I23: Senior | J23: Repair | K23: =IF(OR(J23="Damage",J23="Repair"),"Y","N") -> Y | L23: =VLOOKUP(C23,InputData!$A$4:$C$33,3,FALSE) -> Prelude
... A130: C14469 | B130: 43225 | C130: H9 | D130: 310 | E130: 325 | F130: 34 | G130: 1 | H130: F | I130: Freshman | J130: Dirty | K130: =IF(OR(J130="Damage",J130="Repair"),"Y","N") -> N | L130: =VLOOKUP(C130,InputData!$A$4:$C$33,3,FALSE) -> Fiesta

Sheet PivotTable
B3: Car Model
B4: Fiesta | D4: Focus | F4: Fusion | H4: Prelude | J4: Total Sum of Miles | K4: Total Count of Standing
A5: Month | B5: Sum of Miles | C5: Count of Standing | D5: Sum of Miles | E5: Count of Standing | F5: Sum of Miles | G5: Count of Standing | H5: Sum of Miles | I5: Count of Standing
A6: Feb | B6: 1303 | C6: 9 | D6: 694 | E6: 3 | H6: 4294 | I6: 24 | J6: 6291 | K6: 36
A7: Mar | B7: 1370 | C7: 7 | D7: 2616 | E7: 11 | F7: 1325 | G7: 6 | H7: 3272 | I7: 14 | J7: 8583 | K7: 38
A8: Apr | B8: 490 | C8: 2 | D8: 1182 | E8: 6 | F8: 877 | G8: 5 | H8: 4047 | I8: 18 | J8: 6596 | K8: 31
A9: May | B9: 1190 | C9: 5 | F9: 910 | G9: 3 | H9: 1465 | I9: 6 | J9: 3565 | K9: 14
A10: row Labels | B10: 4353 | C10: 23 | D10: 4492 | E10: 20 | F10: 3112 | G10: 14 | H10: 13078 | I10: 62 | J10: 25035 | K10: 119

Sheet Pivotchart
A1: Sum of Miles | B1: Column Labels
A2: Row Labels | B2: Fiesta | C2: Focus | D2: Fusion | E2: Prelude | F2: Grand Total
A3: Female | B3: 2332 | C3: 1266 | D3: 2225 | E3: 5691 | F3: 11514
A4: Male | B4: 2021 | C4: 3226 | D4: 887 | E4: 7387 | F4: 13521
A5: Grand Total | B5: 4353 | C5: 4492 | D5: 3112 | E5: 13078 | F5: 25035

Sheet RentalData2
A2: CustID | B2: Date | C2: CarID | D2: TimeOut | E2: Miles | F2: Price | G2: Insurance | H2: Gender | I2: Standing | J2: Note | K2: Checkup | L2: Model
A3: C82486 | B3: 43144 | C3: H1 | D3: 220 | E3: 327 | F3: 91 | G3: 0 | H3: M | I3: Sophomore | J3: Dirty | K3: =IF(OR(J3="Damage",J3="Repair"),"Y","N") -> N | L3: =VLOOKUP(C3,InputData!$A$4:$C$33,3,FALSE) -> Fiesta
A4: C29297 | B4: 43146 | C4: H1 | D4: 80 | E4: 143 | F4: 56 | G4: 0 | H4: M | I4: Freshman | J4: OK | K4: =IF(OR(J4="Damage",J4="Repair"),"Y","N") -> N | L4: =VLOOKUP(C4,InputData!$A$4:$C$33,3,FALSE) -> Fiesta
A5: C91326 | B5: 43177 | C5: H1 | D5: 550 | E5: 271 | F5: 75 | G5: 1 | H5: M | I5: Junior | J5: Dirty | K5: =IF(OR(J5="Damage",J5="Repair"),"Y","N") -> N | L5: =VLOOKUP(C5,InputData!$A$4:$C$33,3,FALSE) -> Fiesta
A6: C82678 | B6: 43195 | C6: H1 | D6: 520 | E6: 171 | F6: 108 | G6: 0 | H6: M | I6: Freshman | J6: OK | K6: =IF(OR(J6="Damage",J6="Repair"),"Y","N") -> N | L6: =VLOOKUP(C6,InputData!$A$4:$C$33,3,FALSE) -> Fiesta
A7: C91565 | B7: 43226 | C7: H1 | D7: 240 | E7: 381 | F7: 97 | G7: 0 | H7: F | I7: Sophomore | J7: Dirty | K7: =IF(OR(J7="Damage",J7="Repair"),"Y","N") -> N | L7: =VLOOKUP(C7,InputData!$A$4:$C$33,3,FALSE) -> Fiesta
A8: C84744 | B8: 43136 | C8: H10 | D8: 180 | E8: 227 | F8: 105 | G8: 1 | H8: F | I8: Junior | J8: OK | K8: =IF(OR(J8="Damage",J8="Repair"),"Y","N") -> N | L8: =VLOOKUP(C8,InputData!$A$4:$C$33,3,FALSE) -> Prelude
A9: C69547 | B9: 43169 | C9: H11 | D9: 100 | E9: 286 | F9: 150 | G9: 0 | H9: M | I9: Sophomore | J9: Dirty | K9: =IF(OR(J9="Damage",J9="Repair"),"Y","N") -> N | L9: =VLOOKUP(C9,InputData!$A$4:$C$33,3,FALSE) -> Fusion
A10: C35362 | B10: 43175 | C10: H11 | D10: 400 | E10: 15 | F10: 59 | G10: 1 | H10: M | I10: Freshman | J10: Damage | K10: =IF(OR(J10="Damage",J10="Repair"),"Y","N") -> Y | L10: =VLOOKUP(C10,InputData!$A$4:$C$33,3,FALSE) -> Fusion
A11: C89766 | B11: 43231 | C11: H11 | D11: 520 | E11: 355 | F11: 49 | G11: 1 | H11: F | I11: Graduate | J11: Damage | K11: =IF(OR(J11="Damage",J11="Repair"),"Y","N") -> Y | L11: =VLOOKUP(C11,InputData!$A$4:$C$33,3,FALSE) -> Fusion
A12: C81205 | B12: 43138 | C12: H12 | D12: 80 | E12: 67 | F12: 77 | G12: 1 | H12: F | I12: Sophomore | J12: OK | K12: =IF(OR(J12="Damage",J12="Repair"),"Y","N") -> N | L12: =VLOOKUP(C12,InputData!$A$4:$C$33,3,FALSE) -> Prelude
A13: C77395 | B13: 43135 | C13: H13 | D13: 220 | E13: 300 | F13: 79 | G13: 1 | H13: M | I13: Graduate | J13: OK | K13: =IF(OR(J13="Damage",J13="Repair"),"Y","N") -> N | L13: =VLOOKUP(C13,InputData!$A$4:$C$33,3,FALSE) -> Prelude
A14: C82486 | B14: 43139 | C14: H13 | D14: 110 | E14: 259 | F14: 85 | G14: 0 | H14: M | I14: Senior | J14: Repair | K14: =IF(OR(J14="Damage",J14="Repair"),"Y","N") -> Y | L14: =VLOOKUP(C14,InputData!$A$4:$C$33,3,FALSE) -> Prelude
... A121: C14469 | B121: 43225 | C121: H9 | D121: 310 | E121: 325 | F121: 34 | G121: 1 | H121: F | I121: Freshman | J121: Dirty | K121: =IF(OR(J121="Damage",J121="Repair"),"Y","N") -> N | L121: =VLOOKUP(C121,InputData!$A$4:$C$33,3,FALSE) -> Fiesta

Sheet Report
A3: CarID | B3: Miles | C3: Trips | D3: Checkup
A4: H1 | B4: =SUMIF(RentalData!$C$12:$C$125,A4,RentalData!$E$12:$E$125) -> 1293 | C4: =COUNTIF(RentalData!$C$12:$C$125,Report!A4) -> 5 | D4: =COUNTIFS(RentalData!$K$12:$K$125,"Y",RentalData!$C$12:$C$125,Report!A4) -> 0
A5: H10 | B5: =SUMIF(RentalData!$C$12:$C$125,A5,RentalData!$E$12:$E$125) -> 227 | C5: =COUNTIF(RentalData!$C$12:$C$125,Report!A5) -> 1 | D5: =COUNTIFS(RentalData!$K$12:$K$125,"Y",RentalData!$C$12:$C$125,Report!A5) -> 0
A6: H11 | B6: =SUMIF(RentalData!$C$12:$C$125,A6,RentalData!$E$12:$E$125) -> 656 | C6: =COUNTIF(RentalData!$C$12:$C$125,Report!A6) -> 3 | D6: =COUNTIFS(RentalData!$K$12:$K$125,"Y",RentalData!$C$12:$C$125,Report!A6) -> 2
A7: H12 | B7: =SUMIF(RentalData!$C$12:$C$125,A7,RentalData!$E$12:$E$125) -> 67 | C7: =COUNTIF(RentalData!$C$12:$C$125,Report!A7) -> 1 | D7: =COUNTIFS(RentalData!$K$12:$K$125,"Y",RentalData!$C$12:$C$125,Report!A7) -> 0
A8: H13 | B8: =SUMIF(RentalData!$C$12:$C$125,A8,RentalData!$E$12:$E$125) -> 1259 | C8: =COUNTIF(RentalData!$C$12:$C$125,Report!A8) -> 5 | D8: =COUNTIFS(RentalData!$K$12:$K$125,"Y",RentalData!$C$12:$C$125,Report!A8) -> 1
A9: H14 | B9: =SUMIF(RentalData!$C$12:$C$125,A9,RentalData!$E$12:$E$125) -> 592 | C9: =COUNTIF(RentalData!$C$12:$C$125,Report!A9) -> 4 | D9: =COUNTIFS(RentalData!$K$12:$K$125,"Y",RentalData!$C$12:$C$125,Report!A9) -> 0
A10: H15 | B10: =SUMIF(RentalData!$C$12:$C$125,A10,RentalData!$E$12:$E$125) -> 1204 | C10: =COUNTIF(RentalData!$C$12:$C$125,Report!A10) -> 5 | D10: =COUNTIFS(RentalData!$K$12:$K$125,"Y",RentalData!$C$12:$C$125,Report!A10) -> 3
A11: H16 | B11: =SUMIF(RentalData!$C$12:$C$125,A11,RentalData!$E$12:$E$125) -> 736 | C11: =COUNTIF(RentalData!$C$12:$C$125,Report!A11) -> 4 | D11: =COUNTIFS(RentalData!$K$12:$K$125,"Y",RentalData!$C$12:$C$125,Report!A11) -> 0
A12: H17 | B12: =SUMIF(RentalData!$C$12:$C$125,A12,RentalData!$E$12:$E$125) -> 1638 | C12: =COUNTIF(RentalData!$C$12:$C$125,Report!A12) -> 6 | D12: =COUNTIFS(RentalData!$K$12:$K$125,"Y",RentalData!$C$12:$C$125,Report!A12) -> 0
A13: H18 | B13: =SUMIF(RentalData!$C$12:$C$125,A13,RentalData!$E$12:$E$125) -> 739 | C13: =COUNTIF(RentalData!$C$12:$C$125,Report!A13) -> 4 | D13: =COUNTIFS(RentalData!$K$12:$K$125,"Y",RentalData!$C$12:$C$125,Report!A13) -> 1
A14: H19 | B14: =SUMIF(RentalData!$C$12:$C$125,A14,RentalData!$E$12:$E$125) -> 680 | C14: =COUNTIF(RentalData!$C$12:$C$125,Report!A14) -> 2 | D14: =COUNTIFS(RentalData!$K$12:$K$125,"Y",RentalData!$C$12:$C$125,Report!A14) -> 0
A15: H2 | B15: =SUMIF(RentalData!$C$12:$C$125,A15,RentalData!$E$12:$E$125) -> 953 | C15: =COUNTIF(RentalData!$C$12:$C$125,Report!A15) -> 7 | D15: =COUNTIFS(RentalData!$K$12:$K$125,"Y",RentalData!$C$12:$C$125,Report!A15) -> 3
... A32: H9 | B32: =SUMIF(RentalData!$C$12:$C$125,A32,RentalData!$E$12:$E$125) -> 0 | C32: =COUNTIF(RentalData!$C$12:$C$125,Report!A32) -> 0 | D32: =COUNTIFS(RentalData!$K$12:$K$125,"Y",RentalData!$C$12:$C$125,Report!A32) -> 0

Sheet InputData
A4: AutoID | B4: Make | C4: Model | L4: Ford | M4: Honda
A5: H1 | B5: Ford | C5: Fiesta | F5: Model | G5: Fiesta | H5: Prelude | I5: Fusion | J5: Focus | L5: Fiesta | M5: Prelude
A6: H10 | B6: Honda | C6: Prelude | F6: Check up | G6: 1000 | H6: 1250 | I6: 800 | J6: 800 | L6: Focus | M6: Civic
A7: H11 | B7: Ford | C7: Fusion | L7: Fusion
A8: H12 | B8: Honda | C8: Prelude
A9: H13 | B9: Honda | C9: Prelude
A10: H14 | B10: Ford | C10: Fiesta
A11: H15 | B11: Honda | C11: Prelude
A12: H16 | B12: Ford | C12: Focus
A13: H17 | B13: Honda | C13: Prelude
A14: H18 | B14: Honda | C14: Prelude
A15: H19 | B15: Ford | C15: Focus
A16: H2 | B16: Ford | C16: Fiesta
A17: H20 | B17: Ford | C17: Fiesta
A18: H21 | B18: Honda | C18: Prelude
A19: H22 | B19: Ford | C19: Fiesta
... A33: H9 | B33: Ford | C33: Fiesta

Sheet Documentation
A5: Create Date | B5: By Whom | C5: Description | D5: Workbook Name
A6: 43232 | B6: Firstname Lastname | D6: =MID(CELL("filename"),SEARCH("[",CELL("filename"))+1,SEARCH("]",CELL("filename"))-SEARCH("[",CELL("filename"))-1) -> YO16_XL_BU03_GRADER_Madison College _MeinholzRyan (1).xlsx
A7: Mod. Date | B7: By Whom | C7: Mod. Description | D7: Last Version Backup Name
A19: Create Date | B19: Sheet Name | C19: Creator | D19: Purpose
A20: 43232 | B20: RentalData | C20: Firstname Lastname
A21: 43232 | B21: Report | C21: Firstname Lastname
A22: 43232 | B22: InputData | C22: Firstname Lastname
